BEGIN:VCALENDAR
VERSION:2.0
PRODID:icalendar-ruby
CALSCALE:GREGORIAN
METHOD:PUBLISH
BEGIN:VEVENT
DTSTAMP:20260424T064620Z
UID:15-2640446@fbcelmorecity.church
DTSTART:20261101T173000Z
DTEND:20261101T183000Z
CLASS:PUBLIC
CREATED:20260423T181831
DESCRIPTION:Sunday School
LAST-MODIFIED:20260423T181831
LOCATION:
SUMMARY:Sunday School
URL;VALUE=URI:https://www.fbcelmorecity.church/events/sunday-school/2026-11
 -01
END:VEVENT
END:VCALENDAR
