BEGIN:VCALENDAR
VERSION:2.0
PRODID:icalendar-ruby
CALSCALE:GREGORIAN
METHOD:PUBLISH
BEGIN:VEVENT
DTSTAMP:20260423T194804Z
UID:15-2637394@fbcelmorecity.church
DTSTART:20260920T163000Z
DTEND:20260920T173000Z
CLASS:PUBLIC
CREATED:20260423T123109
DESCRIPTION:Sunday School
LAST-MODIFIED:20260423T123109
LOCATION:
SUMMARY:Sunday School
URL;VALUE=URI:https://www.fbcelmorecity.church/events/sunday-school/2026-09
 -20
END:VEVENT
END:VCALENDAR
