BEGIN:VCALENDAR
VERSION:2.0
PRODID:icalendar-ruby
CALSCALE:GREGORIAN
METHOD:PUBLISH
BEGIN:VEVENT
DTSTAMP:20260423T145632Z
UID:15-2634345@fbcelmorecity.church
DTSTART:20260830T163000Z
DTEND:20260830T173000Z
CLASS:PUBLIC
CREATED:20260423T064057
DESCRIPTION:Sunday School
LAST-MODIFIED:20260423T064057
LOCATION:
SUMMARY:Sunday School
URL;VALUE=URI:https://www.fbcelmorecity.church/events/sunday-school/2026-08
 -30
END:VEVENT
END:VCALENDAR
