BEGIN:VCALENDAR
VERSION:2.0
PRODID:icalendar-ruby
CALSCALE:GREGORIAN
METHOD:PUBLISH
BEGIN:VEVENT
DTSTAMP:20260423T113417Z
UID:15-2632820@fbcelmorecity.church
DTSTART:20260816T163000Z
DTEND:20260816T173000Z
CLASS:PUBLIC
CREATED:20260423T034538
DESCRIPTION:Sunday School
LAST-MODIFIED:20260423T034538
LOCATION:
SUMMARY:Sunday School
URL;VALUE=URI:https://www.fbcelmorecity.church/events/sunday-school/2026-08
 -16
END:VEVENT
END:VCALENDAR
