BEGIN:VCALENDAR
VERSION:2.0
PRODID:icalendar-ruby
CALSCALE:GREGORIAN
METHOD:PUBLISH
BEGIN:VEVENT
DTSTAMP:20260423T095921Z
UID:15-2631296@fbcelmorecity.church
DTSTART:20260809T163000Z
DTEND:20260809T173000Z
CLASS:PUBLIC
CREATED:20260422T181633
DESCRIPTION:Sunday School
LAST-MODIFIED:20260422T181633
LOCATION:
SUMMARY:Sunday School
URL;VALUE=URI:https://www.fbcelmorecity.church/events/sunday-school/2026-08
 -09
END:VEVENT
END:VCALENDAR
