BEGIN:VCALENDAR
VERSION:2.0
PRODID:icalendar-ruby
CALSCALE:GREGORIAN
METHOD:PUBLISH
BEGIN:VEVENT
DTSTAMP:20260421T211147Z
UID:15-2620648@fbcelmorecity.church
DTSTART:20260802T163000Z
DTEND:20260802T173000Z
CLASS:PUBLIC
CREATED:20260421T140920
DESCRIPTION:Sunday School
LAST-MODIFIED:20260421T140920
LOCATION:
SUMMARY:Sunday School
URL;VALUE=URI:https://www.fbcelmorecity.church/events/sunday-school/2026-08
 -02
END:VEVENT
END:VCALENDAR
