BEGIN:VCALENDAR
VERSION:2.0
PRODID:icalendar-ruby
CALSCALE:GREGORIAN
METHOD:PUBLISH
BEGIN:VEVENT
DTSTAMP:20260421T192828Z
UID:15-2619126@fbcelmorecity.church
DTSTART:20260726T163000Z
DTEND:20260726T173000Z
CLASS:PUBLIC
CREATED:20260421T113246
DESCRIPTION:Sunday School
LAST-MODIFIED:20260421T113246
LOCATION:
SUMMARY:Sunday School
URL;VALUE=URI:https://www.fbcelmorecity.church/events/sunday-school/2026-07
 -26
END:VEVENT
END:VCALENDAR
