BEGIN:VCALENDAR
VERSION:2.0
PRODID:icalendar-ruby
CALSCALE:GREGORIAN
METHOD:PUBLISH
BEGIN:VEVENT
DTSTAMP:20260421T172109Z
UID:15-2617604@fbcelmorecity.church
DTSTART:20260719T163000Z
DTEND:20260719T173000Z
CLASS:PUBLIC
CREATED:20260421T085352
DESCRIPTION:Sunday School
LAST-MODIFIED:20260421T085352
LOCATION:
SUMMARY:Sunday School
URL;VALUE=URI:https://www.fbcelmorecity.church/events/sunday-school/2026-07
 -19
END:VEVENT
END:VCALENDAR
