BEGIN:VCALENDAR
VERSION:2.0
PRODID:icalendar-ruby
CALSCALE:GREGORIAN
METHOD:PUBLISH
BEGIN:VEVENT
DTSTAMP:20260421T153517Z
UID:15-2616082@fbcelmorecity.church
DTSTART:20260712T163000Z
DTEND:20260712T173000Z
CLASS:PUBLIC
CREATED:20260421T061653
DESCRIPTION:Sunday School
LAST-MODIFIED:20260421T061653
LOCATION:
SUMMARY:Sunday School
URL;VALUE=URI:https://www.fbcelmorecity.church/events/sunday-school/2026-07
 -12
END:VEVENT
END:VCALENDAR
