BEGIN:VCALENDAR
VERSION:2.0
PRODID:icalendar-ruby
CALSCALE:GREGORIAN
METHOD:PUBLISH
BEGIN:VEVENT
DTSTAMP:20260421T134450Z
UID:15-2616081@fbcelmorecity.church
DTSTART:20260705T163000Z
DTEND:20260705T173000Z
CLASS:PUBLIC
CREATED:20260421T061653
DESCRIPTION:Sunday School
LAST-MODIFIED:20260421T061653
LOCATION:
SUMMARY:Sunday School
URL;VALUE=URI:https://www.fbcelmorecity.church/events/sunday-school/2026-07
 -05
END:VEVENT
END:VCALENDAR
