BEGIN:VCALENDAR
VERSION:2.0
PRODID:icalendar-ruby
CALSCALE:GREGORIAN
METHOD:PUBLISH
BEGIN:VEVENT
DTSTAMP:20260421T120324Z
UID:15-2614559@fbcelmorecity.church
DTSTART:20260628T163000Z
DTEND:20260628T173000Z
CLASS:PUBLIC
CREATED:20260421T034058
DESCRIPTION:Sunday School
LAST-MODIFIED:20260421T034058
LOCATION:
SUMMARY:Sunday School
URL;VALUE=URI:https://www.fbcelmorecity.church/events/sunday-school/2026-06
 -28
END:VEVENT
END:VCALENDAR
