BEGIN:VCALENDAR
VERSION:2.0
PRODID:icalendar-ruby
CALSCALE:GREGORIAN
METHOD:PUBLISH
BEGIN:VEVENT
DTSTAMP:20260421T085553Z
UID:15-2613035@fbcelmorecity.church
DTSTART:20260607T163000Z
DTEND:20260607T173000Z
CLASS:PUBLIC
CREATED:20260420T163505
DESCRIPTION:Sunday School
LAST-MODIFIED:20260420T163505
LOCATION:
SUMMARY:Sunday School
URL;VALUE=URI:https://www.fbcelmorecity.church/events/sunday-school/2026-06
 -07
END:VEVENT
END:VCALENDAR
