BEGIN:VCALENDAR
VERSION:2.0
PRODID:icalendar-ruby
CALSCALE:GREGORIAN
METHOD:PUBLISH
BEGIN:VEVENT
DTSTAMP:20260424T125141Z
UID:9-2641067@fbcelmorecity.church
DTSTART:20261101T184500Z
DTEND:20261101T200000Z
CLASS:PUBLIC
CREATED:20260424T034611
DESCRIPTION:
LAST-MODIFIED:20260424T034611
LOCATION:Sanctuary 
SUMMARY:Sunday Morning Worship
URL;VALUE=URI:https://www.fbcelmorecity.church/events/sunday-morning-worshi
 p/2026-11-01
END:VEVENT
END:VCALENDAR
