BEGIN:VCALENDAR
VERSION:2.0
PRODID:icalendar-ruby
CALSCALE:GREGORIAN
METHOD:PUBLISH
BEGIN:VEVENT
DTSTAMP:20260424T105019Z
UID:9-2641066@fbcelmorecity.church
DTSTART:20261025T174500Z
DTEND:20261025T190000Z
CLASS:PUBLIC
CREATED:20260424T034611
DESCRIPTION:
LAST-MODIFIED:20260424T034611
LOCATION:Sanctuary 
SUMMARY:Sunday Morning Worship
URL;VALUE=URI:https://www.fbcelmorecity.church/events/sunday-morning-worshi
 p/2026-10-25
END:VEVENT
END:VCALENDAR
