BEGIN:VCALENDAR
VERSION:2.0
PRODID:icalendar-ruby
CALSCALE:GREGORIAN
METHOD:PUBLISH
BEGIN:VEVENT
DTSTAMP:20260423T125523Z
UID:9-2631927@fbcelmorecity.church
DTSTART:20261018T174500Z
DTEND:20261018T190000Z
CLASS:PUBLIC
CREATED:20260423T034536
DESCRIPTION:
LAST-MODIFIED:20260423T034536
LOCATION:Sanctuary 
SUMMARY:Sunday Morning Worship
URL;VALUE=URI:https://www.fbcelmorecity.church/events/sunday-morning-worshi
 p/2026-10-18
END:VEVENT
END:VCALENDAR
