BEGIN:VCALENDAR
VERSION:2.0
PRODID:icalendar-ruby
CALSCALE:GREGORIAN
METHOD:PUBLISH
BEGIN:VEVENT
DTSTAMP:20260422T174922Z
UID:9-2625841@fbcelmorecity.church
DTSTART:20261004T174500Z
DTEND:20261004T190000Z
CLASS:PUBLIC
CREATED:20260422T093533
DESCRIPTION:
LAST-MODIFIED:20260422T093533
LOCATION:Sanctuary 
SUMMARY:Sunday Morning Worship
URL;VALUE=URI:https://www.fbcelmorecity.church/events/sunday-morning-worshi
 p/2026-10-04
END:VEVENT
END:VCALENDAR
