BEGIN:VCALENDAR
VERSION:2.0
PRODID:icalendar-ruby
CALSCALE:GREGORIAN
METHOD:PUBLISH
BEGIN:VEVENT
DTSTAMP:20260422T160518Z
UID:9-2624319@fbcelmorecity.church
DTSTART:20260927T174500Z
DTEND:20260927T190000Z
CLASS:PUBLIC
CREATED:20260422T064009
DESCRIPTION:
LAST-MODIFIED:20260422T064009
LOCATION:Sanctuary 
SUMMARY:Sunday Morning Worship
URL;VALUE=URI:https://www.fbcelmorecity.church/events/sunday-morning-worshi
 p/2026-09-27
END:VEVENT
END:VCALENDAR
