BEGIN:VCALENDAR
VERSION:2.0
PRODID:icalendar-ruby
CALSCALE:GREGORIAN
METHOD:PUBLISH
BEGIN:VEVENT
DTSTAMP:20260422T122355Z
UID:9-2622796@fbcelmorecity.church
DTSTART:20260913T174500Z
DTEND:20260913T190000Z
CLASS:PUBLIC
CREATED:20260422T034534
DESCRIPTION:
LAST-MODIFIED:20260422T034534
LOCATION:Sanctuary 
SUMMARY:Sunday Morning Worship
URL;VALUE=URI:https://www.fbcelmorecity.church/events/sunday-morning-worshi
 p/2026-09-13
END:VEVENT
END:VCALENDAR
