BEGIN:VCALENDAR
VERSION:2.0
PRODID:icalendar-ruby
CALSCALE:GREGORIAN
METHOD:PUBLISH
BEGIN:VEVENT
DTSTAMP:20260422T044539Z
UID:9-2621271@fbcelmorecity.church
DTSTART:20260816T174500Z
DTEND:20260816T190000Z
CLASS:PUBLIC
CREATED:20260421T164757
DESCRIPTION:
LAST-MODIFIED:20260421T164757
LOCATION:Sanctuary 
SUMMARY:Sunday Morning Worship
URL;VALUE=URI:https://www.fbcelmorecity.church/events/sunday-morning-worshi
 p/2026-08-16
END:VEVENT
END:VCALENDAR
