BEGIN:VCALENDAR
VERSION:2.0
PRODID:icalendar-ruby
CALSCALE:GREGORIAN
METHOD:PUBLISH
BEGIN:VEVENT
DTSTAMP:20260421T232531Z
UID:9-2619747@fbcelmorecity.church
DTSTART:20260726T174500Z
DTEND:20260726T190000Z
CLASS:PUBLIC
CREATED:20260421T140918
DESCRIPTION:
LAST-MODIFIED:20260421T140918
LOCATION:Sanctuary 
SUMMARY:Sunday Morning Worship
URL;VALUE=URI:https://www.fbcelmorecity.church/events/sunday-morning-worshi
 p/2026-07-26
END:VEVENT
END:VCALENDAR
