BEGIN:VCALENDAR
VERSION:2.0
PRODID:icalendar-ruby
CALSCALE:GREGORIAN
METHOD:PUBLISH
BEGIN:VEVENT
DTSTAMP:20260422T221855Z
UID:8-2627054@fbcelmorecity.church
DTSTART;VALUE=DATE:20261101
DTEND;VALUE=DATE:20261101
CLASS:PUBLIC
CREATED:20260422T123023
DESCRIPTION:Sunday Evening Worship\n6:00 p.m.
LAST-MODIFIED:20260422T123023
LOCATION:Sanctuary
SUMMARY:Sunday Evening Worship
URL;VALUE=URI:https://www.fbcelmorecity.church/events/sunday-evening-worshi
 p/2026-11-01
END:VEVENT
END:VCALENDAR
