BEGIN:VCALENDAR
VERSION:2.0
PRODID:icalendar-ruby
CALSCALE:GREGORIAN
METHOD:PUBLISH
BEGIN:VEVENT
DTSTAMP:20260422T191058Z
UID:8-2625531@fbcelmorecity.church
DTSTART;VALUE=DATE:20261018
DTEND;VALUE=DATE:20261018
CLASS:PUBLIC
CREATED:20260422T093532
DESCRIPTION:Sunday Evening Worship\n6:00 p.m.
LAST-MODIFIED:20260422T093532
LOCATION:Sanctuary
SUMMARY:Sunday Evening Worship
URL;VALUE=URI:https://www.fbcelmorecity.church/events/sunday-evening-worshi
 p/2026-10-18
END:VEVENT
END:VCALENDAR
