BEGIN:VCALENDAR
VERSION:2.0
PRODID:icalendar-ruby
CALSCALE:GREGORIAN
METHOD:PUBLISH
BEGIN:VEVENT
DTSTAMP:20260422T155145Z
UID:8-2624008@fbcelmorecity.church
DTSTART;VALUE=DATE:20261004
DTEND;VALUE=DATE:20261004
CLASS:PUBLIC
CREATED:20260422T064009
DESCRIPTION:Sunday Evening Worship\n6:00 p.m.
LAST-MODIFIED:20260422T064009
LOCATION:Sanctuary
SUMMARY:Sunday Evening Worship
URL;VALUE=URI:https://www.fbcelmorecity.church/events/sunday-evening-worshi
 p/2026-10-04
END:VEVENT
END:VCALENDAR
