BEGIN:VCALENDAR
VERSION:2.0
PRODID:icalendar-ruby
CALSCALE:GREGORIAN
METHOD:PUBLISH
BEGIN:VEVENT
DTSTAMP:20260422T102700Z
UID:8-2620963@fbcelmorecity.church
DTSTART;VALUE=DATE:20260913
DTEND;VALUE=DATE:20260913
CLASS:PUBLIC
CREATED:20260421T164757
DESCRIPTION:Sunday Evening Worship\n6:00 p.m.
LAST-MODIFIED:20260421T164757
LOCATION:Sanctuary
SUMMARY:Sunday Evening Worship
URL;VALUE=URI:https://www.fbcelmorecity.church/events/sunday-evening-worshi
 p/2026-09-13
END:VEVENT
END:VCALENDAR
