BEGIN:VCALENDAR
VERSION:2.0
PRODID:icalendar-ruby
CALSCALE:GREGORIAN
METHOD:PUBLISH
BEGIN:VEVENT
DTSTAMP:20260422T151153Z
UID:13-2624927@fbcelmorecity.church
DTSTART:20261029T010000Z
DTEND:20261029T020000Z
CLASS:PUBLIC
CREATED:20260422T064010
DESCRIPTION:Phos Student Ministry (Youth)
LAST-MODIFIED:20260422T064010
LOCATION:Family Life Center
SUMMARY:Student Ministry
URL;VALUE=URI:https://www.fbcelmorecity.church/events/student-ministry/2026
 -10-28
END:VEVENT
END:VCALENDAR
