BEGIN:VCALENDAR
VERSION:2.0
PRODID:icalendar-ruby
CALSCALE:GREGORIAN
METHOD:PUBLISH
BEGIN:VEVENT
DTSTAMP:20260422T114336Z
UID:13-2623404@fbcelmorecity.church
DTSTART:20261015T010000Z
DTEND:20261015T020000Z
CLASS:PUBLIC
CREATED:20260422T034535
DESCRIPTION:Phos Student Ministry (Youth)
LAST-MODIFIED:20260422T034535
LOCATION:Family Life Center
SUMMARY:Student Ministry
URL;VALUE=URI:https://www.fbcelmorecity.church/events/student-ministry/2026
 -10-14
END:VEVENT
END:VCALENDAR
