BEGIN:VCALENDAR
VERSION:2.0
PRODID:icalendar-ruby
CALSCALE:GREGORIAN
METHOD:PUBLISH
BEGIN:VEVENT
DTSTAMP:20260422T043749Z
UID:13-2621879@fbcelmorecity.church
DTSTART:20260917T010000Z
DTEND:20260917T020000Z
CLASS:PUBLIC
CREATED:20260421T164758
DESCRIPTION:Phos Student Ministry (Youth)
LAST-MODIFIED:20260421T164758
LOCATION:Family Life Center
SUMMARY:Student Ministry
URL;VALUE=URI:https://www.fbcelmorecity.church/events/student-ministry/2026
 -09-16
END:VEVENT
END:VCALENDAR
