BEGIN:VCALENDAR
VERSION:2.0
PRODID:icalendar-ruby
CALSCALE:GREGORIAN
METHOD:PUBLISH
BEGIN:VEVENT
DTSTAMP:20260421T120459Z
UID:380-2372797@fbcelmorecity.church
DTSTART:20260521T010000Z
DTEND:20260521T020000Z
CLASS:PUBLIC
CREATED:20260325T110210
DESCRIPTION:
LAST-MODIFIED:20260325T110210
LOCATION:
SUMMARY:No Church due to Baccalaureate
URL;VALUE=URI:https://www.fbcelmorecity.church/events/no-church-due-to-bacc
 alaureate--380/2026-05-20
END:VEVENT
END:VCALENDAR
