BEGIN:VCALENDAR
VERSION:2.0
PRODID:icalendar-ruby
CALSCALE:GREGORIAN
METHOD:PUBLISH
BEGIN:VEVENT
DTSTAMP:20260421T120459Z
UID:381-2445010@fbcelmorecity.church
DTSTART:20260526T150000Z
DTEND:20260529T190000Z
CLASS:PUBLIC
CREATED:20260402T102657
DESCRIPTION:
LAST-MODIFIED:20260402T102657
LOCATION:Family Life Center
SUMMARY:Basketball Camp- 1st-4th Grade
URL;VALUE=URI:https://www.fbcelmorecity.church/events/basketball-camp-1st-4
 th-grade/2026-05-26
ATTACH;FILENAME=Basketball Flier 2026.jpg;FMTTYPE=image/jpeg:https://dq5pwp
 g1q8ru0.cloudfront.net/2026/04/02/17/26/56/bb69ad86-62cb-417c-9168-2e9c5f0
 7a49e/Basketball%20Flier%202026.jpg
END:VEVENT
END:VCALENDAR
